BEGIN:VCALENDAR
VERSION:2.0
PRODID:-//eventon.com NONSGML v1.0//EN
CALSCALE:GREGORIAN
METHOD:PUBLISH
BEGIN:VEVENT
UID:69e4ebf32449f
DTSTAMP:20260419T145131Z
DTSTART:20270330T180000Z
DTEND:20270330T200000Z
LOCATION:Dreiländerhalle
SUMMARY:Passau
DESCRIPTION:&nbsp;\nhttps://beat-it.show/events/passau-2/
URL:https://beat-it.show/events/passau-2/
END:VEVENT
END:VCALENDAR