BEGIN:VCALENDAR
VERSION:2.0
PRODID:-//eventon.com NONSGML v1.0//EN
CALSCALE:GREGORIAN
METHOD:PUBLISH
BEGIN:VEVENT
UID:69e4c3f21c92a
DTSTAMP:20260419T120050Z
DTSTART:20270328T170000Z
DTEND:20270328T190000Z
LOCATION:Stadthalle F
SUMMARY:Wien
DESCRIPTION:&nbsp;\nhttps://beat-it.show/events/wien-2/
URL:https://beat-it.show/events/wien-2/
END:VEVENT
END:VCALENDAR