BEGIN:VCALENDAR
VERSION:2.0
PRODID:-//eventon.com NONSGML v1.0//EN
CALSCALE:GREGORIAN
METHOD:PUBLISH
BEGIN:VEVENT
UID:69e4c426afd66
DTSTAMP:20260419T120142Z
DTSTART:20270327T190000Z
DTEND:20270327T210000Z
LOCATION:Brucknerhaus
SUMMARY:Linz
DESCRIPTION:&nbsp;\nhttps://beat-it.show/events/linz-2/
URL:https://beat-it.show/events/linz-2/
END:VEVENT
END:VCALENDAR