BEGIN:VCALENDAR
VERSION:2.0
PRODID:-//eventon.com NONSGML v1.0//EN
CALSCALE:GREGORIAN
METHOD:PUBLISH
BEGIN:VEVENT
UID:69e4eacfbd231
DTSTAMP:20260419T144639Z
DTSTART:20270326T190000Z
DTEND:20270326T210000Z
LOCATION:Stadthalle
SUMMARY:Graz
DESCRIPTION:&nbsp;\nhttps://beat-it.show/events/graz-2/
URL:https://beat-it.show/events/graz-2/
END:VEVENT
END:VCALENDAR