BEGIN:VCALENDAR
VERSION:2.0
PRODID:-//eventon.com NONSGML v1.0//EN
CALSCALE:GREGORIAN
METHOD:PUBLISH
BEGIN:VEVENT
UID:69e4c3e862a5d
DTSTAMP:20260419T120040Z
DTSTART:20270324T190000Z
DTEND:20270324T210000Z
LOCATION:Rhein-Mosel-Halle
SUMMARY:Koblenz
DESCRIPTION:&nbsp;\nhttps://beat-it.show/events/koblenz-2/
URL:https://beat-it.show/events/koblenz-2/
END:VEVENT
END:VCALENDAR