BEGIN:VCALENDAR
VERSION:2.0
PRODID:-//eventon.com NONSGML v1.0//EN
CALSCALE:GREGORIAN
METHOD:PUBLISH
BEGIN:VEVENT
UID:69e4eb4158462
DTSTAMP:20260419T144833Z
DTSTART:20270323T190000Z
DTEND:20270323T210000Z
LOCATION:Stadthalle
SUMMARY:Kassel
DESCRIPTION:&nbsp;\nhttps://beat-it.show/events/kassel-2/
URL:https://beat-it.show/events/kassel-2/
END:VEVENT
END:VCALENDAR