BEGIN:VCALENDAR
VERSION:2.0
PRODID:-//eventon.com NONSGML v1.0//EN
CALSCALE:GREGORIAN
METHOD:PUBLISH
BEGIN:VEVENT
UID:69e4eb233ae64
DTSTAMP:20260419T144803Z
DTSTART:20270322T190000Z
DTEND:20270322T210000Z
LOCATION:Gewandhaus
SUMMARY:Leipzig
DESCRIPTION:&nbsp;\nhttps://beat-it.show/events/leipzig/
URL:https://beat-it.show/events/leipzig/
END:VEVENT
END:VCALENDAR