BEGIN:VCALENDAR
VERSION:2.0
PRODID:-//eventon.com NONSGML v1.0//EN
CALSCALE:GREGORIAN
METHOD:PUBLISH
BEGIN:VEVENT
UID:69e4e8c331ea4
DTSTAMP:20260419T143755Z
DTSTART:20270321T180000Z
DTEND:20270321T200000Z
LOCATION:Kongress am Park
SUMMARY:Augsburg
DESCRIPTION:&nbsp;\nhttps://beat-it.show/events/augsburg-2/
URL:https://beat-it.show/events/augsburg-2/
END:VEVENT
END:VCALENDAR