BEGIN:VCALENDAR
VERSION:2.0
PRODID:-//eventon.com NONSGML v1.0//EN
CALSCALE:GREGORIAN
METHOD:PUBLISH
BEGIN:VEVENT
UID:69e4ecfa7a7d0
DTSTAMP:20260419T145554Z
DTSTART:20270320T133000Z
DTEND:20270320T153000Z
LOCATION:Halle 622
SUMMARY:Zürich
DESCRIPTION:&nbsp;\nhttps://beat-it.show/events/zuerich-4/
URL:https://beat-it.show/events/zuerich-4/
END:VEVENT
END:VCALENDAR