BEGIN:VCALENDAR
VERSION:2.0
PRODID:-//eventon.com NONSGML v1.0//EN
CALSCALE:GREGORIAN
METHOD:PUBLISH
BEGIN:VEVENT
UID:69e4e91f3bf33
DTSTAMP:20260419T143927Z
DTSTART:20270320T183000Z
DTEND:20270320T203000Z
LOCATION:Halle 622
SUMMARY:Zürich
DESCRIPTION:&nbsp;\nhttps://beat-it.show/events/zuerich-3/
URL:https://beat-it.show/events/zuerich-3/
END:VEVENT
END:VCALENDAR