BEGIN:VCALENDAR
VERSION:2.0
PRODID:-//eventon.com NONSGML v1.0//EN
CALSCALE:GREGORIAN
METHOD:PUBLISH
BEGIN:VEVENT
UID:69e4c44a2af35
DTSTAMP:20260419T120218Z
DTSTART:20270318T183000Z
DTEND:20270318T203000Z
LOCATION:Halle 622
SUMMARY:Zürich
DESCRIPTION:&nbsp;\nhttps://beat-it.show/events/zuerich/
URL:https://beat-it.show/events/zuerich/
END:VEVENT
END:VCALENDAR