BEGIN:VCALENDAR
VERSION:2.0
PRODID:-//eventon.com NONSGML v1.0//EN
CALSCALE:GREGORIAN
METHOD:PUBLISH
BEGIN:VEVENT
UID:69e4c4b78da31
DTSTAMP:20260419T120407Z
DTSTART:20270316T190000Z
DTEND:20270316T210000Z
LOCATION:Festspielhaus
SUMMARY:Bregenz
DESCRIPTION:&nbsp;\nhttps://beat-it.show/events/bregenz-2/
URL:https://beat-it.show/events/bregenz-2/
END:VEVENT
END:VCALENDAR