BEGIN:VCALENDAR
VERSION:2.0
PRODID:-//eventon.com NONSGML v1.0//EN
CALSCALE:GREGORIAN
METHOD:PUBLISH
BEGIN:VEVENT
UID:69e4eb47ba023
DTSTAMP:20260419T144839Z
DTSTART:20270314T180000Z
DTEND:20270314T200000Z
LOCATION:Oberrheinhalle
SUMMARY:Offenburg
DESCRIPTION:&nbsp;\nhttps://beat-it.show/events/offenburg-2/
URL:https://beat-it.show/events/offenburg-2/
END:VEVENT
END:VCALENDAR