BEGIN:VCALENDAR
VERSION:2.0
PRODID:-//eventon.com NONSGML v1.0//EN
CALSCALE:GREGORIAN
METHOD:PUBLISH
BEGIN:VEVENT
UID:69e4c3f4dfe5e
DTSTAMP:20260419T120052Z
DTSTART:20270313T190000Z
DTEND:20270313T210000Z
LOCATION:Dogana
SUMMARY:Innsbruck
DESCRIPTION:&nbsp;\nhttps://beat-it.show/events/innsbruck-2/
URL:https://beat-it.show/events/innsbruck-2/
END:VEVENT
END:VCALENDAR