BEGIN:VCALENDAR
VERSION:2.0
PRODID:-//eventon.com NONSGML v1.0//EN
CALSCALE:GREGORIAN
METHOD:PUBLISH
BEGIN:VEVENT
UID:69e4c4a4a1d67
DTSTAMP:20260419T120348Z
DTSTART:20270312T190000Z
DTEND:20270312T210000Z
LOCATION:Audimax
SUMMARY:Regensburg
DESCRIPTION:&nbsp;\nhttps://beat-it.show/events/regensburg-2/
URL:https://beat-it.show/events/regensburg-2/
END:VEVENT
END:VCALENDAR