BEGIN:VCALENDAR
VERSION:2.0
PRODID:-//eventon.com NONSGML v1.0//EN
CALSCALE:GREGORIAN
METHOD:PUBLISH
BEGIN:VEVENT
UID:69e4c4bf6ecb8
DTSTAMP:20260419T120415Z
DTSTART:20270310T190000Z
DTEND:20270310T210000Z
LOCATION:Swiss Life Hall
SUMMARY:Hannover
DESCRIPTION:&nbsp;\nhttps://beat-it.show/events/hannover-2/
URL:https://beat-it.show/events/hannover-2/
END:VEVENT
END:VCALENDAR