BEGIN:VCALENDAR
VERSION:2.0
PRODID:-//eventon.com NONSGML v1.0//EN
CALSCALE:GREGORIAN
METHOD:PUBLISH
BEGIN:VEVENT
UID:69e4ec9f87c7b
DTSTAMP:20260419T145423Z
DTSTART:20270309T190000Z
DTEND:20270309T210000Z
LOCATION:MuK
SUMMARY:Lübeck
DESCRIPTION:&nbsp;\nhttps://beat-it.show/events/luebeck/
URL:https://beat-it.show/events/luebeck/
END:VEVENT
END:VCALENDAR