BEGIN:VCALENDAR
VERSION:2.0
PRODID:-//eventon.com NONSGML v1.0//EN
CALSCALE:GREGORIAN
METHOD:PUBLISH
BEGIN:VEVENT
UID:69e4c3f20c75b
DTSTAMP:20260419T120050Z
DTSTART:20270307T180000Z
DTEND:20270307T200000Z
LOCATION:CCH Saal 1
SUMMARY:Hamburg
DESCRIPTION:&nbsp;\nhttps://beat-it.show/events/hamburg/
URL:https://beat-it.show/events/hamburg/
END:VEVENT
END:VCALENDAR