BEGIN:VCALENDAR
VERSION:2.0
PRODID:-//eventon.com NONSGML v1.0//EN
CALSCALE:GREGORIAN
METHOD:PUBLISH
BEGIN:VEVENT
UID:69e4eae8a5be7
DTSTAMP:20260419T144704Z
DTSTART:20270306T190000Z
DTEND:20270306T210000Z
LOCATION:SWT Arena
SUMMARY:Trier
DESCRIPTION:&nbsp;\nhttps://beat-it.show/events/trier-2/
URL:https://beat-it.show/events/trier-2/
END:VEVENT
END:VCALENDAR