BEGIN:VCALENDAR
VERSION:2.0
PRODID:-//eventon.com NONSGML v1.0//EN
CALSCALE:GREGORIAN
METHOD:PUBLISH
BEGIN:VEVENT
UID:69e4d9b500010
DTSTAMP:20260419T133341Z
DTSTART:20270304T190000Z
DTEND:20270304T210000Z
LOCATION:CCW
SUMMARY:Würzburg
DESCRIPTION:&nbsp;\nhttps://beat-it.show/events/wuerzburg-2/
URL:https://beat-it.show/events/wuerzburg-2/
END:VEVENT
END:VCALENDAR