BEGIN:VCALENDAR
VERSION:2.0
PRODID:-//eventon.com NONSGML v1.0//EN
CALSCALE:GREGORIAN
METHOD:PUBLISH
BEGIN:VEVENT
UID:69e4eb56e4f28
DTSTAMP:20260419T144854Z
DTSTART:20270302T190000Z
DTEND:20270302T210000Z
LOCATION:Alte Oper
SUMMARY:Frankfurt
DESCRIPTION:&nbsp;\nhttps://beat-it.show/events/frankfurt/
URL:https://beat-it.show/events/frankfurt/
END:VEVENT
END:VCALENDAR