BEGIN:VCALENDAR
VERSION:2.0
PRODID:-//eventon.com NONSGML v1.0//EN
CALSCALE:GREGORIAN
METHOD:PUBLISH
BEGIN:VEVENT
UID:69e4e9dbafa14
DTSTAMP:20260419T144235Z
DTSTART:20270301T190000Z
DTEND:20270301T210000Z
LOCATION:Beethovenhalle
SUMMARY:Bonn
DESCRIPTION:&nbsp;\nhttps://beat-it.show/events/bonn/
URL:https://beat-it.show/events/bonn/
END:VEVENT
END:VCALENDAR