BEGIN:VCALENDAR
VERSION:2.0
PRODID:-//eventon.com NONSGML v1.0//EN
CALSCALE:GREGORIAN
METHOD:PUBLISH
BEGIN:VEVENT
UID:69e4c42688cab
DTSTAMP:20260419T120142Z
DTSTART:20270228T130000Z
DTEND:20270228T150000Z
LOCATION:Metronom Theater
SUMMARY:Oberhausen
DESCRIPTION:&nbsp;\nhttps://beat-it.show/events/oberhausen-2/
URL:https://beat-it.show/events/oberhausen-2/
END:VEVENT
END:VCALENDAR