BEGIN:VCALENDAR
VERSION:2.0
PRODID:-//eventon.com NONSGML v1.0//EN
CALSCALE:GREGORIAN
METHOD:PUBLISH
BEGIN:VEVENT
UID:69e4ec7f953a9
DTSTAMP:20260419T145351Z
DTSTART:20270227T183000Z
DTEND:20270227T203000Z
LOCATION:Metronom Theater
SUMMARY:Oberhausen
DESCRIPTION:&nbsp;\nhttps://beat-it.show/events/oberhausen/
URL:https://beat-it.show/events/oberhausen/
END:VEVENT
END:VCALENDAR