BEGIN:VCALENDAR
VERSION:2.0
PRODID:-//eventon.com NONSGML v1.0//EN
CALSCALE:GREGORIAN
METHOD:PUBLISH
BEGIN:VEVENT
UID:69e4ed6f6f3c3
DTSTAMP:20260419T145751Z
DTSTART:20270226T190000Z
DTEND:20270226T210000Z
LOCATION:Westfalenhalle 2
SUMMARY:Dortmund
DESCRIPTION:&nbsp;\nhttps://beat-it.show/events/dortmund/
URL:https://beat-it.show/events/dortmund/
END:VEVENT
END:VCALENDAR