BEGIN:VCALENDAR
VERSION:2.0
PRODID:-//eventon.com NONSGML v1.0//EN
CALSCALE:GREGORIAN
METHOD:PUBLISH
BEGIN:VEVENT
UID:69e4c455bf0fb
DTSTAMP:20260419T120229Z
DTSTART:20270225T190000Z
DTEND:20270225T200000Z
LOCATION:Volkswagen Halle
SUMMARY:Braunschweig
DESCRIPTION:&nbsp;\nhttps://beat-it.show/events/braunschweig-2/
URL:https://beat-it.show/events/braunschweig-2/
END:VEVENT
END:VCALENDAR