BEGIN:VCALENDAR
VERSION:2.0
PRODID:-//eventon.com NONSGML v1.0//EN
CALSCALE:GREGORIAN
METHOD:PUBLISH
BEGIN:VEVENT
UID:69e4ea9cb6ec0
DTSTAMP:20260419T144548Z
DTSTART:20270224T190000Z
DTEND:20270224T200000Z
LOCATION:Saarlandhalle
SUMMARY:Saarbrücken
DESCRIPTION:&nbsp;\nhttps://beat-it.show/events/saarbruecken-2/
URL:https://beat-it.show/events/saarbruecken-2/
END:VEVENT
END:VCALENDAR