BEGIN:VCALENDAR
VERSION:2.0
PRODID:-//eventon.com NONSGML v1.0//EN
CALSCALE:GREGORIAN
METHOD:PUBLISH
BEGIN:VEVENT
UID:69e9eab05bf25
DTSTAMP:20260423T094728Z
DTSTART:20270223T190000Z
DTEND:20270223T200000Z
LOCATION:Metropol Theater
SUMMARY:Bremen
DESCRIPTION:&nbsp;\nhttps://beat-it.show/events/bremen/
URL:https://beat-it.show/events/bremen/
END:VEVENT
END:VCALENDAR