BEGIN:VCALENDAR
VERSION:2.0
PRODID:-//eventon.com NONSGML v1.0//EN
CALSCALE:GREGORIAN
METHOD:PUBLISH
BEGIN:VEVENT
UID:69e748a22e38a
DTSTAMP:20260421T095130Z
DTSTART:20270221T180000Z
DTEND:20270221T200000Z
LOCATION:GETEC-Arena
SUMMARY:Magdeburg
DESCRIPTION:&nbsp;\nhttps://beat-it.show/events/magdeburg-2/
URL:https://beat-it.show/events/magdeburg-2/
END:VEVENT
END:VCALENDAR