BEGIN:VCALENDAR
VERSION:2.0
PRODID:-//eventon.com NONSGML v1.0//EN
CALSCALE:GREGORIAN
METHOD:PUBLISH
BEGIN:VEVENT
UID:69e4c423eae2b
DTSTAMP:20260419T120139Z
DTSTART:20270220T190000Z
DTEND:20270220T210000Z
LOCATION:Stadthalle
SUMMARY:Bielefeld
DESCRIPTION:&nbsp;\nhttps://beat-it.show/events/bielefeld-2/
URL:https://beat-it.show/events/bielefeld-2/
END:VEVENT
END:VCALENDAR