BEGIN:VCALENDAR
VERSION:2.0
PRODID:-//eventon.com NONSGML v1.0//EN
CALSCALE:GREGORIAN
METHOD:PUBLISH
BEGIN:VEVENT
UID:69e4c4b78d8f9
DTSTAMP:20260419T120407Z
DTSTART:20270218T190000Z
DTEND:20270218T210000Z
LOCATION:Tempodrom
SUMMARY:Berlin
DESCRIPTION:&nbsp;\nhttps://beat-it.show/events/berlin-4/
URL:https://beat-it.show/events/berlin-4/
END:VEVENT
END:VCALENDAR