BEGIN:VCALENDAR
VERSION:2.0
PRODID:-//eventon.com NONSGML v1.0//EN
CALSCALE:GREGORIAN
METHOD:PUBLISH
BEGIN:VEVENT
UID:69e4c45334ec7
DTSTAMP:20260419T120227Z
DTSTART:20270217T190000Z
DTEND:20270217T210000Z
LOCATION:Tempodrom
SUMMARY:Berlin
DESCRIPTION:&nbsp;\nhttps://beat-it.show/events/berlin-3/
URL:https://beat-it.show/events/berlin-3/
END:VEVENT
END:VCALENDAR