BEGIN:VCALENDAR
VERSION:2.0
PRODID:-//eventon.com NONSGML v1.0//EN
CALSCALE:GREGORIAN
METHOD:PUBLISH
BEGIN:VEVENT
UID:69e4c3efbeecd
DTSTAMP:20260419T120047Z
DTSTART:20270214T180000Z
DTEND:20270214T200000Z
LOCATION:Rheingoldhalle
SUMMARY:Mainz
DESCRIPTION:&nbsp;\nhttps://beat-it.show/events/mainz-2/
URL:https://beat-it.show/events/mainz-2/
END:VEVENT
END:VCALENDAR