BEGIN:VCALENDAR
VERSION:2.0
PRODID:-//eventon.com NONSGML v1.0//EN
CALSCALE:GREGORIAN
METHOD:PUBLISH
BEGIN:VEVENT
UID:69e4c4b4f2198
DTSTAMP:20260419T120404Z
DTSTART:20270213T190000Z
DTEND:20270213T210000Z
LOCATION:Sparkassen-Arena
SUMMARY:Landshut
DESCRIPTION:&nbsp;\nhttps://beat-it.show/events/landshut-2/
URL:https://beat-it.show/events/landshut-2/
END:VEVENT
END:VCALENDAR