BEGIN:VCALENDAR
VERSION:2.0
PRODID:-//eventon.com NONSGML v1.0//EN
CALSCALE:GREGORIAN
METHOD:PUBLISH
BEGIN:VEVENT
UID:69e4c4a185b6d
DTSTAMP:20260419T120345Z
DTSTART:20270211T190000Z
DTEND:20270211T210000Z
LOCATION:ratiopharm arena
SUMMARY:Neu-Ulm
DESCRIPTION:&nbsp;\nhttps://beat-it.show/events/neu-ulm-2/
URL:https://beat-it.show/events/neu-ulm-2/
END:VEVENT
END:VCALENDAR