BEGIN:VCALENDAR
VERSION:2.0
PRODID:-//eventon.com NONSGML v1.0//EN
CALSCALE:GREGORIAN
METHOD:PUBLISH
BEGIN:VEVENT
UID:69e4c455bf81c
DTSTAMP:20260419T120229Z
DTSTART:20270209T190000Z
DTEND:20270209T210000Z
LOCATION:Liederhalle (Beethoven-Saal)
SUMMARY:Stuttgart
DESCRIPTION:&nbsp;\nhttps://beat-it.show/events/stuttgart-2/
URL:https://beat-it.show/events/stuttgart-2/
END:VEVENT
END:VCALENDAR