BEGIN:VCALENDAR
VERSION:2.0
PRODID:-//eventon.com NONSGML v1.0//EN
CALSCALE:GREGORIAN
METHOD:PUBLISH
BEGIN:VEVENT
UID:69e4c44780bbd
DTSTAMP:20260419T120215Z
DTSTART:20270207T180000Z
DTEND:20270207T200000Z
LOCATION:Meistersingerhalle
SUMMARY:Nürnberg
DESCRIPTION:&nbsp;\nhttps://beat-it.show/events/nuernberg-2/
URL:https://beat-it.show/events/nuernberg-2/
END:VEVENT
END:VCALENDAR