BEGIN:VCALENDAR
VERSION:2.0
PRODID:-//eventon.com NONSGML v1.0//EN
CALSCALE:GREGORIAN
METHOD:PUBLISH
BEGIN:VEVENT
UID:69e4ec5108e5b
DTSTAMP:20260419T145305Z
DTSTART:20270206T190000Z
DTEND:20270206T210000Z
LOCATION:kl. Olympiahalle
SUMMARY:München
DESCRIPTION:&nbsp;\nhttps://beat-it.show/events/muenchen-7/
URL:https://beat-it.show/events/muenchen-7/
END:VEVENT
END:VCALENDAR