BEGIN:VCALENDAR
VERSION:2.0
PRODID:-//eventon.com NONSGML v1.0//EN
CALSCALE:GREGORIAN
METHOD:PUBLISH
BEGIN:VEVENT
UID:69e4e935b0cc2
DTSTAMP:20260419T143949Z
DTSTART:20270204T190000Z
DTEND:20270204T210000Z
LOCATION:Messehalle
SUMMARY:Erfurt
DESCRIPTION:&nbsp;\nhttps://beat-it.show/events/erfurt-2/
URL:https://beat-it.show/events/erfurt-2/
END:VEVENT
END:VCALENDAR