BEGIN:VCALENDAR
VERSION:2.0
PRODID:-//eventon.com NONSGML v1.0//EN
CALSCALE:GREGORIAN
METHOD:PUBLISH
BEGIN:VEVENT
UID:69e4c4bf6efdb
DTSTAMP:20260419T120415Z
DTSTART:20270203T180000Z
DTEND:20270203T200000Z
LOCATION:Stadthalle
SUMMARY:Rostock
DESCRIPTION:&nbsp;\nhttps://beat-it.show/events/rostock-2/
URL:https://beat-it.show/events/rostock-2/
END:VEVENT
END:VCALENDAR