BEGIN:VCALENDAR
VERSION:2.0
PRODID:-//eventon.com NONSGML v1.0//EN
CALSCALE:GREGORIAN
METHOD:PUBLISH
BEGIN:VEVENT
UID:69e4c3c157270
DTSTAMP:20260419T120001Z
DTSTART:20270202T190000Z
DTEND:20270202T210000Z
LOCATION:GP Joule Arena
SUMMARY:Flensburg
DESCRIPTION:&nbsp;\nhttps://beat-it.show/events/flensburg/
URL:https://beat-it.show/events/flensburg/
END:VEVENT
END:VCALENDAR