BEGIN:VCALENDAR
VERSION:2.0
PRODID:-//eventon.com NONSGML v1.0//EN
CALSCALE:GREGORIAN
METHOD:PUBLISH
BEGIN:VEVENT
UID:69e4e935b0d7c
DTSTAMP:20260419T143949Z
DTSTART:20270131T180000Z
DTEND:20270131T210000Z
LOCATION:MERKUR Ostseehalle
SUMMARY:Kiel
DESCRIPTION:&nbsp;\nhttps://beat-it.show/events/kiel/
URL:https://beat-it.show/events/kiel/
END:VEVENT
END:VCALENDAR