BEGIN:VCALENDAR
VERSION:2.0
PRODID:-//eventon.com NONSGML v1.0//EN
CALSCALE:GREGORIAN
METHOD:PUBLISH
BEGIN:VEVENT
UID:69e5e67d3faa9
DTSTAMP:20260420T084029Z
DTSTART:20260307T190000Z
DTEND:20260307T213000Z
LOCATION:Stadthalle
SUMMARY:Kassel
DESCRIPTION:&nbsp;\nhttps://beat-it.show/events/kassel/
URL:https://beat-it.show/events/kassel/
END:VEVENT
END:VCALENDAR