BEGIN:VCALENDAR
VERSION:2.0
PRODID:-//eventon.com NONSGML v1.0//EN
CALSCALE:GREGORIAN
METHOD:PUBLISH
BEGIN:VEVENT
UID:69e7363a801f6
DTSTAMP:20260421T083258Z
DTSTART:20260405T170000Z
DTEND:20260405T193000Z
LOCATION:Festspielhaus
SUMMARY:Bregenz
DESCRIPTION:&nbsp;\nhttps://beat-it.show/events/bregenz/
URL:https://beat-it.show/events/bregenz/
END:VEVENT
END:VCALENDAR