BEGIN:VCALENDAR
VERSION:2.0
PRODID:-//eventon.com NONSGML v1.0//EN
CALSCALE:GREGORIAN
METHOD:PUBLISH
BEGIN:VEVENT
UID:69e733842cd6f
DTSTAMP:20260421T082124Z
DTSTART:20260331T180000Z
DTEND:20260331T203000Z
LOCATION:QUARTERBACK Immobilien ARENA
SUMMARY:Leipzig
DESCRIPTION:&nbsp;\nhttps://beat-it.show/events/leipzig-quarterback-immobil
 ien-arena/
URL:https://beat-it.show/events/leipzig-quarterback-immobilien-arena/
END:VEVENT
END:VCALENDAR