BEGIN:VCALENDAR
VERSION:2.0
PRODID:-//eventon.com NONSGML v1.0//EN
CALSCALE:GREGORIAN
METHOD:PUBLISH
BEGIN:VEVENT
UID:69e73706430d3
DTSTAMP:20260421T083622Z
DTSTART:20260328T183000Z
DTEND:20260328T220000Z
LOCATION:Halle 622
SUMMARY:Zürich
DESCRIPTION:&nbsp;\nhttps://beat-it.show/events/zuerich-halle-622-6/
URL:https://beat-it.show/events/zuerich-halle-622-6/
END:VEVENT
END:VCALENDAR