BEGIN:VCALENDAR
VERSION:2.0
PRODID:-//eventon.com NONSGML v1.0//EN
CALSCALE:GREGORIAN
METHOD:PUBLISH
BEGIN:VEVENT
UID:69e7346d22291
DTSTAMP:20260421T082517Z
DTSTART:20260328T133000Z
DTEND:20260328T160000Z
LOCATION:Halle 622
SUMMARY:Zürich
DESCRIPTION:&nbsp;\nhttps://beat-it.show/events/zuerich-halle-622-5/
URL:https://beat-it.show/events/zuerich-halle-622-5/
END:VEVENT
END:VCALENDAR