BEGIN:VCALENDAR
VERSION:2.0
PRODID:-//eventon.com NONSGML v1.0//EN
CALSCALE:GREGORIAN
METHOD:PUBLISH
BEGIN:VEVENT
UID:69e734c2c8be1
DTSTAMP:20260421T082642Z
DTSTART:20260326T183000Z
DTEND:20260326T220000Z
LOCATION:Halle 622
SUMMARY:Zürich
DESCRIPTION:&nbsp;\nhttps://beat-it.show/events/zuerich-halle-622-3/
URL:https://beat-it.show/events/zuerich-halle-622-3/
END:VEVENT
END:VCALENDAR